Workbook

Sheet RESUM
A1: NOM DEL CENTRE EDUCATIU (ENTITAT COL·LABORADORA):
A2: NOM DE LA ENTITAT BENEFICIARIA QUE GESTIONA LES ACTIVITATS:
A3: CURS ESCOLAR :
A4: GRUPS | B4: NOM ACTIVITAT | C4: COST TOTAL ACTIVITAT | D4: IMPORT SOL·LITAT | E4: NOMBRE DE NENES | F4: NOMBRE DE NENS | G4: TOTAL INSCRITS | H4: CURS DELS DESTINATARIS
A5: 1 | G5: =E5+F5 -> 0
A6: 2 | G6: =E6+F6 -> 0
A7: 3 | G7: =E7+F7 -> 0
A8: 4 | G8: =E8+F8 -> 0
A9: 5 | G9: =E9+F9 -> 0
A10: 6 | G10: =E10+F10 -> 0
A11: 7 | G11: =E11+F11 -> 0
A12: 8 | G12: =E12+F12 -> 0
A13: 9 | G13: =E13+F13 -> 0
A14: 10 | G14: =E14+F14 -> 0
A15: 11 | G15: =E15+F15 -> 0
A16: 12 | G16: =E16+F16 -> 0
A17: PROJECTE ATENCIÓ A LA DIVERSITAT
A18: ACTIVIAT DE CLOENDA
A19: TOTALS | C19: =SUM(C5:C18) -> 0 | D19: =SUM(D5:D18) -> 0 | E19: =SUM(E5:E16) -> 0 | F19: =SUM(F5:F16) -> 0 | G19: =SUM(G5:G16) -> 0
A23: Preu mensual de les activitats d'1,15 h per a la famíla:
A24: Data inici projecte activitats extraescolars lúdiques:
A25: Data finalització projecte activitats extraescolars lúdiques:
A26: Data d'inici de les activitats:
A27: Data de finalització de les activitats:
A28: Nom i Cognoms de la persona coordinadora de les activtats:
A29: Titulació persona coordinadora:

Sheet ACTIVITAT 1
A2: PREVISSIÓ D'INGRESSOS I DESPESES DE LA ACTIVITAT SUBVENCIONADA
A3: NOM DE L'ACTIVITAT 1:
A4: DESPESES | B4: IMPORT | C4: INGRESSOS | D4: IMPORT
A5: Monitors/es | C5: Pagat per la família
A6: Materials | C6: Subvenció Ajuntament
A7: Coordinació | C7: Aportacions Ampa
A8: Altres (especificar) | C8: Altres (especificar)
A12: TOTAL DESPESES | B12: =SUM(B5:B8) -> 0 | C12: TOTAL INGRESSOS | D12: =SUM(D5:D8) -> 0

Sheet ACTIVITAT 2
A2: PREVISSIÓ D'INGRESSOS I DESPESES DE LA ACTIVITAT SUBVENCIONADA
A3: NOM DE L'ACTIVITAT 2:
A4: DESPESES | B4: IMPORT | C4: INGRESSOS | D4: IMPORT
A5: Monitors/es | C5: Pagat per la família
A6: Materials | C6: Subvenció Ajuntament
A7: Coordinació | C7: Aportacions Ampa
A8: Altres (especificar) | C8: Altres (especificar)
A12: TOTAL DESPESES | B12: =SUM(B5:B8) -> 0 | C12: TOTAL INGRESSOS | D12: =SUM(D5:D8) -> 0

Sheet ACTIVITAT 3
A2: PREVISSIÓ D'INGRESSOS I DESPESES DE LA ACTIVITAT SUBVENCIONADA
A3: NOM DE L'ACTIVITAT 3:
A4: DESPESES | B4: IMPORT | C4: INGRESSOS | D4: IMPORT
A5: Monitors/es | C5: Pagat per la família
A6: Materials | C6: Subvenció Ajuntament
A7: Coordinació | C7: Aportacions Ampa
A8: Altres (especificar) | C8: Altres (especificar)
A12: TOTAL DESPESES | B12: =SUM(B5:B8) -> 0 | C12: TOTAL INGRESSOS | D12: =SUM(D5:D8) -> 0

Sheet ACTIVITAT 4
A2: PREVISSIÓ D'INGRESSOS I DESPESES DE LA ACTIVITAT SUBVENCIONADA
A3: NOM DE L'ACTIVITAT 4:
A4: DESPESES | B4: IMPORT | C4: INGRESSOS | D4: IMPORT
A5: Monitors/es | C5: Pagat per la família
A6: Materials | C6: Subvenció Ajuntament
A7: Coordinació | C7: Aportacions Ampa
A8: Altres (especificar) | C8: Altres (especificar)
A12: TOTAL DESPESES | B12: =SUM(B5:B8) -> 0 | C12: TOTAL INGRESSOS | D12: =SUM(D5:D8) -> 0

Sheet ACTIVITAT 5
A2: PREVISSIÓ D'INGRESSOS I DESPESES DE LA ACTIVITAT SUBVENCIONADA
A3: NOM DE L'ACTIVITAT 5:
A4: DESPESES | B4: IMPORT | C4: INGRESSOS | D4: IMPORT
A5: Monitors/es | C5: Pagat per la família
A6: Materials | C6: Subvenció Ajuntament
A7: Coordinació | C7: Aportacions Ampa
A8: Altres (especificar) | C8: Altres (especificar)
A12: TOTAL DESPESES | B12: =SUM(B5:B8) -> 0 | C12: TOTAL INGRESSOS | D12: =SUM(D5:D8) -> 0

Sheet ACTIVITAT 6
A2: PREVISSIÓ D'INGRESSOS I DESPESES DE LA ACTIVITAT SUBVENCIONADA
A3: NOM DE L'ACTIVITAT 6:
A4: DESPESES | B4: IMPORT | C4: INGRESSOS | D4: IMPORT
A5: Monitors/es | C5: Pagat per la família
A6: Materials | C6: Subvenció Ajuntament
A7: Coordinació | C7: Aportacions Ampa
A8: Altres (especificar) | C8: Altres (especificar)
A12: TOTAL DESPESES | B12: =SUM(B5:B8) -> 0 | C12: TOTAL INGRESSOS | D12: =SUM(D5:D8) -> 0

Sheet ACTIVITAT 7
A2: PREVISSIÓ D'INGRESSOS I DESPESES DE LA ACTIVITAT SUBVENCIONADA
A3: NOM DE L'ACTIVITAT 7:
A4: DESPESES | B4: IMPORT | C4: INGRESSOS | D4: IMPORT
A5: Monitors/es | C5: Pagat per la família
A6: Materials | C6: Subvenció Ajuntament
A7: Coordinació | C7: Aportacions Ampa
A8: Altres (especificar) | C8: Altres (especificar)
A12: TOTAL DESPESES | B12: =SUM(B5:B8) -> 0 | C12: TOTAL INGRESSOS | D12: =SUM(D5:D8) -> 0

Sheet ACTIVITAT 8
A2: PREVISSIÓ D'INGRESSOS I DESPESES DE LA ACTIVITAT SUBVENCIONADA
A3: NOM DE L'ACTIVITAT 8:
A4: DESPESES | B4: IMPORT | C4: INGRESSOS | D4: IMPORT
A5: Monitors/es | C5: Pagat per la família
A6: Materials | C6: Subvenció Ajuntament
A7: Coordinació | C7: Aportacions Ampa
A8: Altres (especificar) | C8: Altres (especificar)
A12: TOTAL DESPESES | B12: =SUM(B5:B8) -> 0 | C12: TOTAL INGRESSOS | D12: =SUM(D5:D8) -> 0

Sheet ACTIVITAT 9
A2: PREVISSIÓ D'INGRESSOS I DESPESES DE LA ACTIVITAT SUBVENCIONADA
A3: NOM DE L'ACTIVITAT 9:
A4: DESPESES | B4: IMPORT | C4: INGRESSOS | D4: IMPORT
A5: Monitors/es | C5: Pagat per la família
A6: Materials | C6: Subvenció Ajuntament
A7: Coordinació | C7: Aportacions Ampa
A8: Altres (especificar) | C8: Altres (especificar)
A12: TOTAL DESPESES | B12: =SUM(B5:B8) -> 0 | C12: TOTAL INGRESSOS | D12: =SUM(D5:D8) -> 0

Sheet ACTIVITAT 10
A2: PREVISSIÓ D'INGRESSOS I DESPESES DE LA ACTIVITAT SUBVENCIONADA
A3: NOM DE L'ACTIVITAT 10:
A4: DESPESES | B4: IMPORT | C4: INGRESSOS | D4: IMPORT
A5: Monitors/es | C5: Pagat per la família
A6: Materials | C6: Subvenció Ajuntament
A7: Coordinació | C7: Aportacions Ampa
A8: Altres (especificar) | C8: Altres (especificar)
A12: TOTAL DESPESES | B12: =SUM(B5:B8) -> 0 | C12: TOTAL INGRESSOS | D12: =SUM(D5:D8) -> 0

Sheet ACTIVITAT 11
A2: PREVISSIÓ D'INGRESSOS I DESPESES DE LA ACTIVITAT SUBVENCIONADA
A3: NOM DE L'ACTIVITAT 11:
A4: DESPESES | B4: IMPORT | C4: INGRESSOS | D4: IMPORT
A5: Monitors/es | C5: Pagat per la família
A6: Materials | C6: Subvenció Ajuntament
A7: Coordinació | C7: Aportacions Ampa
A8: Altres (especificar) | C8: Altres (especificar)
A12: TOTAL DESPESES | B12: =SUM(B5:B8) -> 0 | C12: TOTAL INGRESSOS | D12: =SUM(D5:D8) -> 0

Sheet ACTIVITAT 12
A2: PREVISSIÓ D'INGRESSOS I DESPESES DE LA ACTIVITAT SUBVENCIONADA
A3: NOM DE L'ACTIVITAT 12:
A4: DESPESES | B4: IMPORT | C4: INGRESSOS | D4: IMPORT
A5: Monitors/es | C5: Pagat per la família
A6: Materials | C6: Subvenció Ajuntament
A7: Coordinació | C7: Aportacions Ampa
A8: Altres (especificar) | C8: Altres (especificar)
A12: TOTAL DESPESES | B12: =SUM(B5:B8) -> 0 | C12: TOTAL INGRESSOS | D12: =SUM(D5:D8) -> 0

Sheet ACTIVITAT CLOENDA
A2: PREVISSIÓ D'INGRESSOS I DESPESES DE L' ACTIVITAT DE CLOENDA
A3: ACTIVITAT DE CLOENDA
A4: DESPESES | B4: IMPORT | C4: INGRESSOS | D4: IMPORT
A5: Monitors/es | C5: Pagat per la família
A6: Materials | C6: Subvenció Ajuntament
A7: Coordinació | C7: Aportacions Ampa
A8: Altres (especificar) | C8: Altres (especificar)
A12: TOTAL DESPESES | B12: =SUM(B5:B8) -> 0 | C12: TOTAL INGRESSOS | D12: =SUM(D5:D8) -> 0

Sheet ATENCIÓ DIVERSITAT
A2: PREVISSIÓ D'INGRESSOS I DESPESES PROJECTE ATENCIÓ A LA DIVERSITAT
A4: DESPESES | B4: IMPORT | C4: INGRESSOS | D4: IMPORT
A5: Monitors/es | C5: Subvenció Ajuntament
A6: Materials | C6: Aportacions AFA
A7: Coordinació | C7: Altres (especificar)
A8: Altres (especificar)
A12: TOTAL DESPESES | B12: =SUM(B5:B8) -> 0 | C12: TOTAL INGRESSOS | D12: =SUM(D5:D8) -> 0

Sheet ORGANITZACIÓ VETLLADORA-ES
A1: ORGANITZACIÓ PROJECTE ATENCIÓ A LA DIVERSITAT
B2: DILLUNS | C2: DIMARTS | D2: DIMECRES | E2: DIJOUS | F2: DIVENDRES | G2: TOTALS
A3: HORES DIARIES DEL MONITOR/A DE SUPORT AMB ALUMNAT
A4: HORES DIARIES COORDINACIÓ DEL MONITOR/A DE SUPORT
A5: TOTAL HORES MONITOR/A DE SUPORT
A7: ALUMNAT
A8: NOMBRE ALUMNAT D'ATENCIÓ A LA DIVERSITAT
A10: ACTIVITATS ATENCIÓ A LA DIVERSITAT
A11: NOMBRE D'ACTIVITATS EXTRAESCOLARS AMB MONITOR/A DE SUPORT

Sheet PREVISIÓ GLOBAL
A2: PREVISSIÓ D'INGRESSOS I DESPESES DE LES ACTIVITATS SUBVENCIONADES I PROJECTE ATENCIÓ A LA DIVERSITAT (Previssió de resultats econòmics de l’activitat a realitzar per l’entitat que gestiona les activitats, detallant-hi tant els costos de l’activitat subvencionada com els ingressos generats).
A3: (*) Aquest repartiment de despeses i/o ingressos és orientatiu i podrà variar en funció del desenvolupament del projecte.
A4: DESPESES (*) | B4: IMPORT | C4: INGRESSOS (*) | D4: IMPORT
A5: Monitors/es | B5: ='ACTIVITAT 1'!B5+'ACTIVITAT 2'!B5+'ACTIVITAT 3'!B5+'ACTIVITAT 4'!B5+'ACTIVITAT 5'!B5+'ACTIVITAT 6'!B5+'ACTIVITAT 7'!B5+'ACTIVITAT 8'!B5+'ACTIVITAT 9'!B5+'ACTIVITAT CLOENDA'!B5+'ACTIVITAT 10'!B5+'ACTIVITAT 11'!B5+'ACTIVITAT 12'!B5+'ATENCIÓ DIVERSITAT'!B5 -> 0 | C5: Pagat per la família | D5: ='ACTIVITAT 1'!D5+'ACTIVITAT 2'!D5+'ACTIVITAT 3'!D5+'ACTIVITAT 4'!D5+'ACTIVITAT 5'!D5+'ACTIVITAT 6'!D5+'ACTIVITAT 7'!D5+'ACTIVITAT 8'!5:5+'ACTIVITAT 9'!D5+'ACTIVITAT CLOENDA'!D5+'ACTIVITAT 10'!D5+'ACTIVITAT 11'!D5+'ACTIVITAT 12'!D5 -> 0
A6: Materials | B6: ='ACTIVITAT 1'!B6+'ACTIVITAT 2'!B6+'ACTIVITAT 3'!B6+'ACTIVITAT 4'!B6+'ACTIVITAT 5'!B6+'ACTIVITAT 6'!B6+'ACTIVITAT 7'!B6+'ACTIVITAT 8'!B6+'ACTIVITAT 9'!B6+'ACTIVITAT CLOENDA'!B6+'ACTIVITAT 10'!B6+'ACTIVITAT 11'!B6+'ACTIVITAT 12'!B6+'ATENCIÓ DIVERSITAT'!B6 -> 0 | C6: Subvenció Ajuntament | D6: ='ACTIVITAT 1'!D6+'ACTIVITAT 2'!D6+'ACTIVITAT 3'!D6+'ACTIVITAT 4'!D6+'ACTIVITAT 5'!D6+'ACTIVITAT 6'!D6+'ACTIVITAT 7'!D6+'ACTIVITAT 8'!D6+'ACTIVITAT 9'!D6+'ACTIVITAT CLOENDA'!D6+'ACTIVITAT 10'!D6+'ACTIVITAT 11'!D6+'ACTIVITAT 12'!D6+'ATENCIÓ DIVERSITAT'!D5 -> 0
A7: Coordinació | B7: ='ACTIVITAT 1'!B7+'ACTIVITAT 2'!B7+'ACTIVITAT 3'!B7+'ACTIVITAT 4'!B7+'ACTIVITAT 5'!B7+'ACTIVITAT 6'!B7+'ACTIVITAT 7'!B7+'ACTIVITAT 8'!B7+'ACTIVITAT 9'!B7+'ACTIVITAT CLOENDA'!B7+'ACTIVITAT 10'!B7+'ACTIVITAT 11'!B7+'ACTIVITAT 12'!B7+'ATENCIÓ DIVERSITAT'!B7 -> 0 | C7: Aportacions AfA | D7: ='ACTIVITAT 1'!D7+'ACTIVITAT 2'!D7+'ACTIVITAT 3'!D7+'ACTIVITAT 4'!D7+'ACTIVITAT 5'!D7+'ACTIVITAT 6'!D7+'ACTIVITAT 7'!D7+'ACTIVITAT 8'!D7+'ACTIVITAT 9'!D7+'ACTIVITAT CLOENDA'!D7+'ACTIVITAT 10'!D7+'ACTIVITAT 11'!D7+'ACTIVITAT 12'!D7+'ATENCIÓ DIVERSITAT'!D6 -> 0
A8: Altres (especificar) | B8: ='ACTIVITAT 1'!B8+'ACTIVITAT 2'!B8+'ACTIVITAT 3'!B8+'ACTIVITAT 4'!B8+'ACTIVITAT 5'!B8+'ACTIVITAT 6'!B8+'ACTIVITAT 7'!B8+'ACTIVITAT 8'!B8+'ACTIVITAT 9'!B8+'ACTIVITAT CLOENDA'!B8+'ACTIVITAT 10'!B8+'ACTIVITAT 11'!B8+'ACTIVITAT 12'!B8+'ATENCIÓ DIVERSITAT'!B8 -> 0 | C8: Altres | D8: ='ACTIVITAT 1'!D8+'ACTIVITAT 2'!D8+'ACTIVITAT 3'!D8+'ACTIVITAT 4'!D8+'ACTIVITAT 5'!D8+'ACTIVITAT 6'!D8+'ACTIVITAT 7'!D8+'ACTIVITAT 8'!D8+'ACTIVITAT 9'!D8+'ACTIVITAT CLOENDA'!D8+'ACTIVITAT 10'!D8+'ACTIVITAT 11'!D8+'ACTIVITAT 12'!D8+'ATENCIÓ DIVERSITAT'!D7 -> 0
A10: TOTAL DESPESES | B10: =SUM(B5:B8) -> 0 | C10: TOTAL INGRESSOS | D10: =SUM(D5:D8) -> 0
A14: INGRESSOS | B14: =D10 -> 0
A15: DESPESES | B15: =B10 -> 0
A16: DIFERÈNCIA | B16: =B14-B15 -> 0
A18: Si el beneficiari té la capacitat de realitzar més grups dels subvencionats amb la mateixa subvenció es podran presentar com a justificació.

Sheet RESUM MONITORS
A1: RESUM DADES MONITORATGE, MONITOR/A DE SUPORT i COORDINADORS/ES
A3: Nom | B3: 1r Cognom | C3: 2n Cognom | D3: Titulació | E3: Activitats que realitza
